BEGIN:VCALENDAR
PRODID:-//AT Content Types//AT Event//EN
VERSION:2.0
METHOD:PUBLISH
BEGIN:VEVENT
DTSTAMP:20260421T085826Z
CREATED:20191211T132420Z
UID:ATEvent-8903a584ea1a4e54b4924e28861b8bd5
LAST-MODIFIED:20200114T092225Z
SUMMARY:Public Information Day - Samuel Beckett Civic Campus
DTSTART:20200213T140000Z
DTEND:20200213T200000Z
CLASS:PUBLIC
END:VEVENT
END:VCALENDAR
