BEGIN:VCALENDAR
PRODID:-//AT Content Types//AT Event//EN
VERSION:2.0
METHOD:PUBLISH
BEGIN:VEVENT
DTSTAMP:20260421T085826Z
CREATED:20191211T132420Z
UID:ATEvent-965497c094d447f9b699ad18d5b5ab1d
LAST-MODIFIED:20200114T092225Z
SUMMARY:Public Information Day - Shanganagh Park House
DTSTART:20200211T140000Z
DTEND:20200211T200000Z
CLASS:PUBLIC
END:VEVENT
END:VCALENDAR
