BEGIN:VCALENDAR
PRODID:-//AT Content Types//AT Event//EN
VERSION:2.0
METHOD:PUBLISH
BEGIN:VEVENT
DTSTAMP:20260421T090834Z
CREATED:20191211T132420Z
UID:ATEvent-3149b39b7f014338ad7d0ecad31be10d
LAST-MODIFIED:20200114T092225Z
SUMMARY:Public Information Day - Stillorgan Library
DTSTART:20200130T140000Z
DTEND:20200130T200000Z
CLASS:PUBLIC
END:VEVENT
END:VCALENDAR
