BEGIN:VCALENDAR
PRODID:-//AT Content Types//AT Event//EN
VERSION:2.0
METHOD:PUBLISH
BEGIN:VEVENT
DTSTAMP:20260424T144310Z
CREATED:20150518T183654Z
UID:ATEvent-fa61c557cd182879c72d49268214499e
LAST-MODIFIED:20150608T095232Z
SUMMARY:Public Meeting on the LECP
DTSTART:20150602T093000Z
DTEND:20150602T113000Z
DESCRIPTION:Public Meeting on the Local Economic and Community Plan in
  County Hall\, Marine Road\, Dún Laoghaire
CLASS:PUBLIC
END:VEVENT
END:VCALENDAR
