BEGIN:VCALENDAR
PRODID:-//AT Content Types//AT Event//EN
VERSION:2.0
METHOD:PUBLISH
BEGIN:VEVENT
DTSTAMP:20260424T161458Z
CREATED:20150518T183654Z
UID:ATEvent-05be1c33cd1e4b0d9ce351c6691504c5
LAST-MODIFIED:20150608T095232Z
SUMMARY:Public Meeting on the LECP
DTSTART:20150603T180000Z
DTEND:20150603T200000Z
DESCRIPTION:Public Meeting on the Local Economic and Community Plan in
  the Stillorgan Park Hotel\, Stillorgan
CLASS:PUBLIC
END:VEVENT
END:VCALENDAR
