BEGIN:VCALENDAR
PRODID:-//AT Content Types//AT Event//EN
VERSION:2.0
METHOD:PUBLISH
BEGIN:VEVENT
DTSTAMP:20260419T222338Z
CREATED:20260318T143009Z
UID:ATEvent-7a7092a449dd4280937b8c452a5cc6d9
LAST-MODIFIED:20260318T145458Z
SUMMARY:Public Information Session
DTSTART:20260414T090000Z
DTEND:20260414T113000Z
DESCRIPTION:County Hall\, Marine Road\, Dun Laoghaire\, Co. Dublin\, A
 96 K6C9
CLASS:PUBLIC
END:VEVENT
END:VCALENDAR
