BEGIN:VCALENDAR
PRODID:-//AT Content Types//AT Event//EN
VERSION:2.0
METHOD:PUBLISH
BEGIN:VEVENT
DTSTAMP:20260419T205355Z
CREATED:20260318T143009Z
UID:ATEvent-ae2ec63fd9224c74b1b85d56f4c528e3
LAST-MODIFIED:20260318T145458Z
SUMMARY:Public Information Session
DTSTART:20260414T130000Z
DTEND:20260414T150000Z
DESCRIPTION:County Hall\, Marine Road\, Dun Laoghaire\, Co. Dublin\, A
 96 K6C9
CLASS:PUBLIC
END:VEVENT
END:VCALENDAR
