BEGIN:VCALENDAR
PRODID:-//AT Content Types//AT Event//EN
VERSION:2.0
METHOD:PUBLISH
BEGIN:VEVENT
DTSTAMP:20260426T014059Z
CREATED:20251216T141718Z
UID:ATEvent-4f6690f6dcfc4436802ce31dd8779e00
LAST-MODIFIED:20251216T141731Z
SUMMARY:Drop-in day for the Proposed Variation No.1 to the Dún Laoghaire Rathdown County Development Plan 2022-2028
DTSTART:20260115T180000Z
DTEND:20260115T200000Z
DESCRIPTION:County Hall\nMarine Road \nDún Laoghaire\nA96 K6C9
CLASS:PUBLIC
END:VEVENT
END:VCALENDAR
