BEGIN:VCALENDAR
PRODID:-//AT Content Types//AT Event//EN
VERSION:2.0
METHOD:PUBLISH
BEGIN:VEVENT
DTSTAMP:20260426T032601Z
CREATED:20251125T103913Z
UID:ATEvent-9babac421cf742e09b4ab3349d3f2a27
LAST-MODIFIED:20251216T141731Z
SUMMARY:Drop-in day for the Proposed Variation No.1 to the Dún Laoghaire Rathdown County Development Plan 2022-2028
DTSTART:20260120T160000Z
DTEND:20260120T200000Z
DESCRIPTION:Council Offices\nDundrum Office Park\nMain Street Dundrum\
 , \nDublin 14. D14YY00
CLASS:PUBLIC
END:VEVENT
END:VCALENDAR
