BEGIN:VCALENDAR
PRODID:-//AT Content Types//AT Event//EN
VERSION:2.0
METHOD:PUBLISH
BEGIN:VEVENT
DTSTAMP:20260426T014042Z
CREATED:20251125T103913Z
UID:ATEvent-a8dceba7d3fb46ebbe3c5187e2fec213
LAST-MODIFIED:20251216T141731Z
SUMMARY:Drop-in day for the Proposed Variation No.1 to the Dún Laoghaire Rathdown County Development Plan 2022-2028
DTSTART:20260115T140000Z
DTEND:20260115T160000Z
DESCRIPTION:County Hall\nMarine Road \nDún Laoghaire\nA96 K6C9
LOCATION:from 2pm to 4pm
CLASS:PUBLIC
END:VEVENT
END:VCALENDAR
